BEGIN:VCALENDAR
VERSION:2.0
PRODID:-//Un Negocio Local - ECPv6.15.20//NONSGML v1.0//EN
CALSCALE:GREGORIAN
METHOD:PUBLISH
X-ORIGINAL-URL:https://unnegociolocal.com
X-WR-CALDESC:Events for Un Negocio Local
REFRESH-INTERVAL;VALUE=DURATION:PT1H
X-Robots-Tag:noindex
X-PUBLISHED-TTL:PT1H
BEGIN:VTIMEZONE
TZID:UTC
BEGIN:STANDARD
TZOFFSETFROM:+0000
TZOFFSETTO:+0000
TZNAME:UTC
DTSTART:20250101T000000
END:STANDARD
END:VTIMEZONE
BEGIN:VEVENT
DTSTART;TZID=UTC:20260413T100000
DTEND;TZID=UTC:20260413T160000
DTSTAMP:20260423T221659
CREATED:20260413T050925Z
LAST-MODIFIED:20260413T051541Z
UID:27061-1776074400-1776096000@unnegociolocal.com
SUMMARY:Guelaguetza Santa Cruz: Oaxacan Cultural Event
DESCRIPTION:🎊 Guelaguetza Santa Cruz: Oaxacan Cultural Event 🎊\n¡Ven a celebrar la vibrante esencia de Oaxaca! ❤️ Disfruta de una tarde inolvidable llena de tradición\, cultura y alegría para toda la familia. \n✨ Lo que te espera:\n\n\n🎭 Danza y Música: Presentaciones especiales de las Comunidades Indígenas y Centeotl Danza y Baile. \n\n\n🌮 Gastronomía: Deléitate con la deliciosa comida típica oaxaqueña. \n\n\n🎨 Artesanías: Exhibición y venta de piezas únicas hechas por manos artesanas. \n\n\n\n📅 Detalles del Evento\n\n\n🗓️ Fecha: Domingo\, 26 de Abril de 2026 \n\n\n⏰ Horario: 10:00 AM — 4:00 PM \n\n\n📍 Ubicación: Branciforte Small Schools (840 N Branciforte Ave.\, Santa Cruz\, CA) \n\n\n🎟️ Costo de Entrada: $10.00 USD \n\n\n👶 Nota: ¡Menores de 5 años entran gratis! \n\n\n🤝 Organizado por: SENDEROS \n\n\n🌐 Sitio Web oficial: scsenderos.org \n\n\n\n📝 Notas Importantes para tu Visita\n\n\n🪑 Comodidad: Te recomendamos traer tu propio petate\, silla o manta para disfrutar de los espectáculos cómodamente. \n\n\n🚫 Ambiente Familiar: Este es un evento libre de humo\, vapeo y alcohol. \n\n\n🐾 Mascotas: Por razones de seguridad y espacio\, no se permiten mascotas. \n\n\n\n⚖️ Aviso de Responsabilidad (Disclaimer)\nLimitación de Responsabilidad de Un Negocio Local ™ \nLa información contenida en esta publicación se proporciona únicamente con fines de difusión. Un Negocio Local ™ actúa como una plataforma independiente y no es responsable de la organización\, logística ni de cambios de última hora realizados por los organizadores externos (SENDEROS). Se recomienda verificar cualquier detalle directamente en el sitio oficial del evento antes de asistir. Al utilizar esta información\, el usuario exonera a Un Negocio Local ™ de cualquier responsabilidad legal o civil derivada del evento.
URL:https://unnegociolocal.com/event/guelaguetza-santa-cruz-oaxacan-cultural-event/
LOCATION:Branciforte Small Schools\, 840 N Branciforte Ave.\, Santa Cruz\, CA\, United States
CATEGORIES:Culltura,Danza y Musica,Danza y Musica,Guelaguetza Santa Cruz: Oaxacan Cultural Event
ATTACH;FMTTYPE=image/jpeg:https://unnegociolocal.com/wp-content/uploads/2026/04/669726369_18524328781078023_4198841007185808892_n-e1776056706191.webp
END:VEVENT
BEGIN:VEVENT
DTSTART;TZID=UTC:20260417T200000
DTEND;TZID=UTC:20260417T210000
DTSTAMP:20260423T221659
CREATED:20260409T215137Z
LAST-MODIFIED:20260409T215353Z
UID:27027-1776456000-1776459600@unnegociolocal.com
SUMMARY:Una Noche de Leyenda en Tijuana: Enrique Guzmán y Angélica María se Despiden
DESCRIPTION:Una Noche de Leyenda en Tijuana: Enrique Guzmán y Angélica María se Despiden\n¡La espera casi termina\, Tijuana! Estamos a tan solo una semana de presenciar un evento que quedará marcado en la historia musical de nuestra ciudad. El próximo 17 de abril\, el escenario de El Foro se vestirá de gala para recibir a dos de los íconos más grandes del Rock and Roll y la época de oro en México: Enrique Guzmán y Angélica María. \nUna Despedida Inolvidable\nBajo el título “La Despedida”\, este concierto no es solo una presentación más; es el cierre de un capítulo dorado. Ver a estos dos grandes amigos y colegas compartir el escenario es un viaje directo a los recuerdos\, las baladas románticas y el ritmo que puso a bailar a toda una generación. \nAdemás\, el motivo no podría ser más noble: ¡Celebrando a las Madres! Es el regalo perfecto para aquellas mujeres que crecieron con sus canciones y que hoy pueden disfrutar de este espectáculo de primer nivel en vivo. \n¡Aprovecha el Miércoles de 2×1!\nQueremos que nadie se quede fuera de esta última oportunidad de verlos juntos por allá. Por eso\, hoy es miércoles de 2×1 al adquirir tus entradas a través de Súper Boletos. \nEs el momento ideal para asegurar tu lugar y el de tu acompañante al mejor precio. \n\n\n¿Dónde comprar?: Haz clic en el siguiente enlace oficial: Comprar Boletos Aquí \n\n\nFecha: 17 de Abril. \n\n\nLugar: El Foro\, Tijuana. \n\n\n¡No lo dejes para mañana! Recuerda que es la última vez que estas dos leyendas se presentarán juntas en nuestra ciudad. ¡Nos vemos la próxima semana para cantar a todo pulmón! \n\nAviso Legal / Disclaimer\n\nAviso: La información proporcionada en este blog\, incluidos los precios\, promociones de “2×1” y disponibilidad de boletos\, es responsabilidad exclusiva de la boletera Súper Boletos y los organizadores del evento (SG Producciones). Este sitio web actúa únicamente como un medio informativo y no se hace responsable por cambios en la programación\, cancelación del evento o problemas técnicos durante la compra en plataformas externas. Se recomienda verificar los términos y condiciones directamente en el sitio oficial de venta antes de realizar cualquier transacción.
URL:https://unnegociolocal.com/event/una-noche-de-leyenda-en-tijuana-enrique-guzman-y-angelica-maria-se-despiden/
LOCATION:CA
CATEGORIES:Conciertos
ATTACH;FMTTYPE=image/jpeg:https://unnegociolocal.com/wp-content/uploads/2026/04/668897140_1496906041804953_7606711387067576918_n.webp
END:VEVENT
END:VCALENDAR